BEGIN:VCALENDAR
VERSION:2.0
PRODID:-//Animal in Harmony - ECPv6.15.20//NONSGML v1.0//EN
CALSCALE:GREGORIAN
METHOD:PUBLISH
X-WR-CALNAME:Animal in Harmony
X-ORIGINAL-URL:https://animalinharmony.com
X-WR-CALDESC:Events for Animal in Harmony
REFRESH-INTERVAL;VALUE=DURATION:PT1H
X-Robots-Tag:noindex
X-PUBLISHED-TTL:PT1H
BEGIN:VTIMEZONE
TZID:Europe/Madrid
BEGIN:DAYLIGHT
TZOFFSETFROM:+0100
TZOFFSETTO:+0200
TZNAME:CEST
DTSTART:20150329T010000
END:DAYLIGHT
BEGIN:STANDARD
TZOFFSETFROM:+0200
TZOFFSETTO:+0100
TZNAME:CET
DTSTART:20151025T010000
END:STANDARD
BEGIN:DAYLIGHT
TZOFFSETFROM:+0100
TZOFFSETTO:+0200
TZNAME:CEST
DTSTART:20160327T010000
END:DAYLIGHT
BEGIN:STANDARD
TZOFFSETFROM:+0200
TZOFFSETTO:+0100
TZNAME:CET
DTSTART:20161030T010000
END:STANDARD
BEGIN:DAYLIGHT
TZOFFSETFROM:+0100
TZOFFSETTO:+0200
TZNAME:CEST
DTSTART:20170326T010000
END:DAYLIGHT
BEGIN:STANDARD
TZOFFSETFROM:+0200
TZOFFSETTO:+0100
TZNAME:CET
DTSTART:20171029T010000
END:STANDARD
BEGIN:DAYLIGHT
TZOFFSETFROM:+0100
TZOFFSETTO:+0200
TZNAME:CEST
DTSTART:20180325T010000
END:DAYLIGHT
BEGIN:STANDARD
TZOFFSETFROM:+0200
TZOFFSETTO:+0100
TZNAME:CET
DTSTART:20181028T010000
END:STANDARD
BEGIN:DAYLIGHT
TZOFFSETFROM:+0100
TZOFFSETTO:+0200
TZNAME:CEST
DTSTART:20190331T010000
END:DAYLIGHT
BEGIN:STANDARD
TZOFFSETFROM:+0200
TZOFFSETTO:+0100
TZNAME:CET
DTSTART:20191027T010000
END:STANDARD
BEGIN:DAYLIGHT
TZOFFSETFROM:+0100
TZOFFSETTO:+0200
TZNAME:CEST
DTSTART:20200329T010000
END:DAYLIGHT
BEGIN:STANDARD
TZOFFSETFROM:+0200
TZOFFSETTO:+0100
TZNAME:CET
DTSTART:20201025T010000
END:STANDARD
BEGIN:DAYLIGHT
TZOFFSETFROM:+0100
TZOFFSETTO:+0200
TZNAME:CEST
DTSTART:20210328T010000
END:DAYLIGHT
BEGIN:STANDARD
TZOFFSETFROM:+0200
TZOFFSETTO:+0100
TZNAME:CET
DTSTART:20211031T010000
END:STANDARD
BEGIN:DAYLIGHT
TZOFFSETFROM:+0100
TZOFFSETTO:+0200
TZNAME:CEST
DTSTART:20220327T010000
END:DAYLIGHT
BEGIN:STANDARD
TZOFFSETFROM:+0200
TZOFFSETTO:+0100
TZNAME:CET
DTSTART:20221030T010000
END:STANDARD
END:VTIMEZONE
BEGIN:VTIMEZONE
TZID:America/Argentina/Buenos_Aires
BEGIN:STANDARD
TZOFFSETFROM:-0300
TZOFFSETTO:-0300
TZNAME:-03
DTSTART:20190101T000000
END:STANDARD
END:VTIMEZONE
BEGIN:VTIMEZONE
TZID:Europe/London
BEGIN:DAYLIGHT
TZOFFSETFROM:+0000
TZOFFSETTO:+0100
TZNAME:BST
DTSTART:20160327T010000
END:DAYLIGHT
BEGIN:STANDARD
TZOFFSETFROM:+0100
TZOFFSETTO:+0000
TZNAME:GMT
DTSTART:20161030T010000
END:STANDARD
BEGIN:DAYLIGHT
TZOFFSETFROM:+0000
TZOFFSETTO:+0100
TZNAME:BST
DTSTART:20170326T010000
END:DAYLIGHT
BEGIN:STANDARD
TZOFFSETFROM:+0100
TZOFFSETTO:+0000
TZNAME:GMT
DTSTART:20171029T010000
END:STANDARD
BEGIN:DAYLIGHT
TZOFFSETFROM:+0000
TZOFFSETTO:+0100
TZNAME:BST
DTSTART:20180325T010000
END:DAYLIGHT
BEGIN:STANDARD
TZOFFSETFROM:+0100
TZOFFSETTO:+0000
TZNAME:GMT
DTSTART:20181028T010000
END:STANDARD
END:VTIMEZONE
BEGIN:VTIMEZONE
TZID:Europe/Ljubljana
BEGIN:DAYLIGHT
TZOFFSETFROM:+0100
TZOFFSETTO:+0200
TZNAME:CEST
DTSTART:20150329T010000
END:DAYLIGHT
BEGIN:STANDARD
TZOFFSETFROM:+0200
TZOFFSETTO:+0100
TZNAME:CET
DTSTART:20151025T010000
END:STANDARD
BEGIN:DAYLIGHT
TZOFFSETFROM:+0100
TZOFFSETTO:+0200
TZNAME:CEST
DTSTART:20160327T010000
END:DAYLIGHT
BEGIN:STANDARD
TZOFFSETFROM:+0200
TZOFFSETTO:+0100
TZNAME:CET
DTSTART:20161030T010000
END:STANDARD
BEGIN:DAYLIGHT
TZOFFSETFROM:+0100
TZOFFSETTO:+0200
TZNAME:CEST
DTSTART:20170326T010000
END:DAYLIGHT
BEGIN:STANDARD
TZOFFSETFROM:+0200
TZOFFSETTO:+0100
TZNAME:CET
DTSTART:20171029T010000
END:STANDARD
END:VTIMEZONE
BEGIN:VEVENT
DTSTART;TZID=Europe/Madrid:20210110T180000
DTEND;TZID=Europe/Madrid:20210110T203000
DTSTAMP:20260422T212730
CREATED:20201101T130351Z
LAST-MODIFIED:20201101T130351Z
UID:8081-1610301600-1610310600@animalinharmony.com
SUMMARY:Webinar with Kathy Cascade
DESCRIPTION:https://animalinharmony.com/wp-content/uploads/WEBINARIO-KATHY-CASCADE-subtítulos-y-portada.mp4
URL:https://animalinharmony.com/event/webinar-with-kathy-cascade/
ORGANIZER;CN="Nuria":MAILTO:vecformacion@gmail.com
END:VEVENT
BEGIN:VEVENT
DTSTART;TZID=America/Argentina/Buenos_Aires:20201205T100000
DTEND;TZID=America/Argentina/Buenos_Aires:20201205T113000
DTSTAMP:20260422T212730
CREATED:20201108T141432Z
LAST-MODIFIED:20201108T141432Z
UID:8091-1607162400-1607167800@animalinharmony.com
SUMMARY:Zoofarmacognosy on the Diploma Course for Animal Assisted Therapy at the Universidad Abierta Interamericana (Buenos Aires)
DESCRIPTION:On December 5th 2020 I shall be presenting a webinar “Introduction to Zoopharmacognosy” for the students of the Diploma Course on Animal Assisted Therapy at the Universidad Abierta Interamericana (Buenos Aires).
URL:https://animalinharmony.com/event/zoofarmacognosy-on-the-diploma-course-for-animal-assisted-therapy-at-the-universidad-abierta-interamericana-buenos-aires/
END:VEVENT
BEGIN:VEVENT
DTSTART;TZID=Europe/Madrid:20200627T170000
DTEND;TZID=Europe/Madrid:20200627T200000
DTSTAMP:20260422T212730
CREATED:20200528T161841Z
LAST-MODIFIED:20200528T161841Z
UID:6638-1593277200-1593288000@animalinharmony.com
SUMMARY:Introducción a la Zoofarmacognosis Aplicada I
DESCRIPTION:Tenemos el gran placer de repetir el primer módulo del curso Introducción a la Zoofarmacognosis Aplicada los días 27 y 28 de junio y para los que ya han hcho esta primera introducción se ofrecerá un segundo módulo los días 18 y 19 de julio. Ambos cursos se ofrecen online y en un horario que acomoda tanto a los participantes de España como los de América Latina
URL:https://animalinharmony.com/event/introduccion-a-la-zoofarmacognosis-aplicada-i/
LOCATION:Online event\, United Kingdom
ORGANIZER;CN="Nuria":MAILTO:vecformacion@gmail.com
END:VEVENT
BEGIN:VEVENT
DTSTART;VALUE=DATE:20200222
DTEND;VALUE=DATE:20200224
DTSTAMP:20260422T212730
CREATED:20191118T141716Z
LAST-MODIFIED:20191118T143739Z
UID:3999-1582329600-1582502399@animalinharmony.com
SUMMARY:Applied Zoofarmacognosy Course
DESCRIPTION:The courses for the new year ar now being programmed! In February we will offer modules 1 & 2 in Madrid. The courses will comprise both theory and practice and there will be the opportunity to carry out sessions with the participating animals.
URL:https://animalinharmony.com/event/zoofarmacognosis-aplicada/
LOCATION:Madrid\, Spain
ORGANIZER;CN="Nuria":MAILTO:vecformacion@gmail.com
END:VEVENT
BEGIN:VEVENT
DTSTART;VALUE=DATE:20190520
DTEND;VALUE=DATE:20190521
DTSTAMP:20260422T212730
CREATED:20190514T130556Z
LAST-MODIFIED:20190514T130831Z
UID:1611-1558310400-1558396799@animalinharmony.com
SUMMARY:Book Launch "LIbre Elección"
DESCRIPTION:My book “Libre Elección” will be available for sale in the next few days. The book offers a practical guide to zoopharmacognosy and includes an A-Z of the main substances used as well as tables for easy consultation of the different conditions animals may suffer from.
URL:https://animalinharmony.com/event/lanzamiento-libro-libre-eleccion/
END:VEVENT
BEGIN:VEVENT
DTSTART;TZID=Europe/Madrid:20190210T180000
DTEND;TZID=Europe/Madrid:20190210T190000
DTSTAMP:20260422T212730
CREATED:20190123T142919Z
LAST-MODIFIED:20190123T142919Z
UID:1391-1549821600-1549825200@animalinharmony.com
SUMMARY:Webinar: Multi-animal Households
DESCRIPTION:In this webinar we are going to take a look at some situations which may arise in homes shared by several animals\, perhaps of different species. The  we will see what resources zoopharmacognosy and Tellington TTouch have to offer us to help resolve possible issues.
URL:https://animalinharmony.com/event/webinar-multi-animal-households/
END:VEVENT
BEGIN:VEVENT
DTSTART;TZID=Europe/Madrid:20190118T080000
DTEND;TZID=Europe/Madrid:20190118T170000
DTSTAMP:20260422T212730
CREATED:20190118T171015Z
LAST-MODIFIED:20190118T174558Z
UID:1368-1547798400-1547830800@animalinharmony.com
SUMMARY:Webinar "Anxiety & Zoopharmacognosy"
DESCRIPTION:In this webinar we take a close look at what anxiety is and the many ways in which it may affect the animals we share our lives with or work  with. Then we explore how zoopharmacognosy can provide options to help us and our pets cope with this often stressful condition. Check it out on \nhttps://animalinharmony.com/anxiety-zoopharmacognosy/ \nThis is an  “evergreen” webinar so it is available at all times for you to watch at your convenience.
URL:https://animalinharmony.com/event/webinar-anxiety-zoopharmacognosy/
END:VEVENT
BEGIN:VEVENT
DTSTART;TZID=Europe/Madrid:20181104T180000
DTEND;TZID=Europe/Madrid:20181104T190000
DTSTAMP:20260422T212730
CREATED:20181014T130328Z
LAST-MODIFIED:20181014T130328Z
UID:1062-1541354400-1541358000@animalinharmony.com
SUMMARY:Reactivity Webinar
DESCRIPTION:Webinar exploring reactivity from an integrative perspective with Tellington Touch and Zoopharmacognosy. This webinar will be in English. If you wish to attend please contact mary@animalinharmony.com.
URL:https://animalinharmony.com/event/reactivity-webinar/
END:VEVENT
BEGIN:VEVENT
DTSTART;TZID=Europe/Madrid:20180930T180000
DTEND;TZID=Europe/Madrid:20180930T184000
DTSTAMP:20260422T212730
CREATED:20180829T152436Z
LAST-MODIFIED:20180829T152436Z
UID:995-1538330400-1538332800@animalinharmony.com
SUMMARY:Anxiety  Webinar
DESCRIPTION:Starting in September I plan to offer a series of webinars on various topics. The first one will be “What is Anxiety and how can we help our animals overcome it?” This topic was chosen by students who feel that it an important issue. The first webinar will be held on September 30th. Initially the webinars will be short sessions but\, if demand warrants it\, then we shall adapt the format accordingly. I think that the topic of anxiety will probably need more than one session. This webinar will be in English.
URL:https://animalinharmony.com/event/anxiety-webinar-2/
END:VEVENT
BEGIN:VEVENT
DTSTART;TZID=Europe/Madrid:20180923T180000
DTEND;TZID=Europe/Madrid:20180923T184000
DTSTAMP:20260422T212731
CREATED:20180727T170527Z
LAST-MODIFIED:20180809T140208Z
UID:949-1537725600-1537728000@animalinharmony.com
SUMMARY:Anxiety Webinar
DESCRIPTION:In September I plan to offer a series of webinars on various topics. The first one will be “What is Anxiety and how can we help our animals overcome it?” This topic was chosen by students who feel that it an important issue. The webinars will begin in the second half of September. The final date\, time and cost will be announced in due course. Initially the webinars will be short sessions but\, if demand warrants it\, then we shall adapt the format accordingly.
URL:https://animalinharmony.com/event/anxiety-webinar/
ORGANIZER;CN="Mary Rodriguez":MAILTO:mary@animalinharmony.com
END:VEVENT
BEGIN:VEVENT
DTSTART;TZID=Europe/London:20170716T190000
DTEND;TZID=Europe/London:20170716T200000
DTSTAMP:20260422T212731
CREATED:20161212T092929Z
LAST-MODIFIED:20161212T094038Z
UID:414-1500231600-1500235200@animalinharmony.com
SUMMARY:What is Zoopharmacognosy?
DESCRIPTION:In this webinar the aim is to explore the basics of zoopharmacognosy. There will be a Powerpoint presentation and time for Q&A. The target audience is behaviourists and ICB members.
URL:https://animalinharmony.com/event/what-is-zoopharmacognosy/
LOCATION:Online event\, United Kingdom
END:VEVENT
BEGIN:VEVENT
DTSTART;TZID=Europe/Madrid:20170401T093000
DTEND;TZID=Europe/Madrid:20170401T170000
DTSTAMP:20260422T212731
CREATED:20161004T034633Z
LAST-MODIFIED:20161004T034633Z
UID:96-1491039000-1491066000@animalinharmony.com
SUMMARY:Zoopharmacognosis Module 2: Base Materials and Common Complaints
DESCRIPTION:
URL:https://animalinharmony.com/event/zoopharmacognosis-module-2-base-materials-and-common-complaints/
END:VEVENT
BEGIN:VEVENT
DTSTART;TZID=Europe/London:20170210T093000
DTEND;TZID=Europe/London:20170210T170000
DTSTAMP:20260422T212731
CREATED:20161006T043921Z
LAST-MODIFIED:20161128T144651Z
UID:144-1486719000-1486746000@animalinharmony.com
SUMMARY:Introduction to Zoopharmacognosy
DESCRIPTION:We will learn the theory behind this therapy and explore how different oils and minerals can help animals maintain and/or restore their physical\, mental and emotional wellbeing through self-medication. We will also have practical individual sessions with the participating animals.
URL:https://animalinharmony.com/event/introduction-to-zoopharmacognosy/
LOCATION:Fourstones\, Limeworks Estate\, Fourstones\, Hexham\, Hexham\, NE47 5DG\, United Kingdom
CATEGORIES:Course
ATTACH;FMTTYPE=image/jpeg:https://animalinharmony.com/wp-content/uploads/Dogman.jpg
ORGANIZER;CN="Lynne":MAILTO:infocannycaninesdtc.com
END:VEVENT
BEGIN:VEVENT
DTSTART;TZID=Europe/Madrid:20161204T093000
DTEND;TZID=Europe/Madrid:20161204T173000
DTSTAMP:20260422T212731
CREATED:20160828T092033Z
LAST-MODIFIED:20161125T165012Z
UID:36-1480843800-1480872600@animalinharmony.com
SUMMARY:Zoopharmacognosy in Estepona
DESCRIPTION:Zoopharmacognosy Module 3: This module is dedicated exclusively to studying in greater depth the major essential oils chosen by animals. We learn about the properties in greater depth. Participants will present a case study of at least one animal they have worked with for discussion with the other participants.
URL:https://animalinharmony.com/event/zoopharmacognosy-in-estepona/
LOCATION:Finca Tierra Sana\, El Padrón 109\, Estepopna\, Málaga\, 29680\, Spain
CATEGORIES:Course
ATTACH;FMTTYPE=image/jpeg:https://animalinharmony.com/wp-content/uploads/lana-arnica-oil-660x330.jpg
ORGANIZER;CN="Mary Rodriguez":MAILTO:mary@animalinharmony.com
END:VEVENT
BEGIN:VEVENT
DTSTART;TZID=Europe/Ljubljana:20161114T093000
DTEND;TZID=Europe/Ljubljana:20161114T170000
DTSTAMP:20260422T212731
CREATED:20161004T034353Z
LAST-MODIFIED:20161128T144754Z
UID:92-1479115800-1479142800@animalinharmony.com
SUMMARY:Zoopharmacognosy Module 3: Essential Oils
DESCRIPTION:This module is dedicated exclusively to studying in greater depth the major essential oils chosen by animals. We learn about the properties in greater depth. Participants will present a case study of at least one animal they have worked with for discussion with the other participants.
URL:https://animalinharmony.com/event/zoopharma-module-3-essential-oils/
LOCATION:Slovenia\, Ljubljana\, Slovenia
CATEGORIES:Course
ATTACH;FMTTYPE=image/jpeg:https://animalinharmony.com/wp-content/uploads/Dogman.jpg
ORGANIZER;CN="Petra":MAILTO:thal.petra@gmail.com
END:VEVENT
BEGIN:VEVENT
DTSTART;TZID=Europe/Ljubljana:20161113T093000
DTEND;TZID=Europe/Ljubljana:20161113T170000
DTSTAMP:20260422T212731
CREATED:20161004T034258Z
LAST-MODIFIED:20161006T034325Z
UID:88-1479029400-1479056400@animalinharmony.com
SUMMARY:Zoopharmacognosy Module 2: Base Materials and Common Complaints
DESCRIPTION:Zoopharmacognosy Module 2: Deepening our knowledge and understanding of self-medication by animals\, we will study the properties of the base materials including macerated and vegetable oils. We will also explore the remedies selected most frequently by animals for common complaint such as allergies\, wounds\, etc. Participants carry out a practice session under guidance.
URL:https://animalinharmony.com/event/zoopharma-module-2-base-materials-and-common-complaints/
LOCATION:Slovenia\, Ljubljana\, Slovenia
CATEGORIES:Course
END:VEVENT
BEGIN:VEVENT
DTSTART;TZID=Europe/Ljubljana:20161112T093000
DTEND;TZID=Europe/Ljubljana:20161112T170000
DTSTAMP:20260422T212731
CREATED:20161004T034113Z
LAST-MODIFIED:20161006T034259Z
UID:84-1478943000-1478970000@animalinharmony.com
SUMMARY:Introduction to Zoopharmacognosy
DESCRIPTION:Introduction to Zoopharmacognosy: we will learn the theory behind this therapy and explore how different oils and mineral can help animals maintain and /or restore their physical\, mental and emotional wellbeing through self-medication . We will also have practical individual sessions with the participating animals.
URL:https://animalinharmony.com/event/zoopharma-introduction/
LOCATION:Slovenia\, Ljubljana\, Slovenia
CATEGORIES:Course
ORGANIZER;CN="Petra":MAILTO:thal.petra@gmail.com
END:VEVENT
END:VCALENDAR