BEGIN:VCALENDAR
VERSION:2.0
PRODID:-//Animal in Harmony - ECPv6.15.20//NONSGML v1.0//EN
CALSCALE:GREGORIAN
METHOD:PUBLISH
X-ORIGINAL-URL:https://animalinharmony.com/es/
X-WR-CALDESC:Eventos para Animal in Harmony
REFRESH-INTERVAL;VALUE=DURATION:PT1H
X-Robots-Tag:noindex
X-PUBLISHED-TTL:PT1H
BEGIN:VTIMEZONE
TZID:Europe/Madrid
BEGIN:DAYLIGHT
TZOFFSETFROM:+0100
TZOFFSETTO:+0200
TZNAME:CEST
DTSTART:20160327T010000
END:DAYLIGHT
BEGIN:STANDARD
TZOFFSETFROM:+0200
TZOFFSETTO:+0100
TZNAME:CET
DTSTART:20161030T010000
END:STANDARD
BEGIN:DAYLIGHT
TZOFFSETFROM:+0100
TZOFFSETTO:+0200
TZNAME:CEST
DTSTART:20170326T010000
END:DAYLIGHT
BEGIN:STANDARD
TZOFFSETFROM:+0200
TZOFFSETTO:+0100
TZNAME:CET
DTSTART:20171029T010000
END:STANDARD
BEGIN:DAYLIGHT
TZOFFSETFROM:+0100
TZOFFSETTO:+0200
TZNAME:CEST
DTSTART:20180325T010000
END:DAYLIGHT
BEGIN:STANDARD
TZOFFSETFROM:+0200
TZOFFSETTO:+0100
TZNAME:CET
DTSTART:20181028T010000
END:STANDARD
BEGIN:DAYLIGHT
TZOFFSETFROM:+0100
TZOFFSETTO:+0200
TZNAME:CEST
DTSTART:20190331T010000
END:DAYLIGHT
BEGIN:STANDARD
TZOFFSETFROM:+0200
TZOFFSETTO:+0100
TZNAME:CET
DTSTART:20191027T010000
END:STANDARD
BEGIN:DAYLIGHT
TZOFFSETFROM:+0100
TZOFFSETTO:+0200
TZNAME:CEST
DTSTART:20200329T010000
END:DAYLIGHT
BEGIN:STANDARD
TZOFFSETFROM:+0200
TZOFFSETTO:+0100
TZNAME:CET
DTSTART:20201025T010000
END:STANDARD
BEGIN:DAYLIGHT
TZOFFSETFROM:+0100
TZOFFSETTO:+0200
TZNAME:CEST
DTSTART:20210328T010000
END:DAYLIGHT
BEGIN:STANDARD
TZOFFSETFROM:+0200
TZOFFSETTO:+0100
TZNAME:CET
DTSTART:20211031T010000
END:STANDARD
BEGIN:DAYLIGHT
TZOFFSETFROM:+0100
TZOFFSETTO:+0200
TZNAME:CEST
DTSTART:20220327T010000
END:DAYLIGHT
BEGIN:STANDARD
TZOFFSETFROM:+0200
TZOFFSETTO:+0100
TZNAME:CET
DTSTART:20221030T010000
END:STANDARD
END:VTIMEZONE
BEGIN:VTIMEZONE
TZID:America/Argentina/Buenos_Aires
BEGIN:STANDARD
TZOFFSETFROM:-0300
TZOFFSETTO:-0300
TZNAME:-03
DTSTART:20190101T000000
END:STANDARD
END:VTIMEZONE
BEGIN:VTIMEZONE
TZID:Europe/London
BEGIN:DAYLIGHT
TZOFFSETFROM:+0000
TZOFFSETTO:+0100
TZNAME:BST
DTSTART:20160327T010000
END:DAYLIGHT
BEGIN:STANDARD
TZOFFSETFROM:+0100
TZOFFSETTO:+0000
TZNAME:GMT
DTSTART:20161030T010000
END:STANDARD
BEGIN:DAYLIGHT
TZOFFSETFROM:+0000
TZOFFSETTO:+0100
TZNAME:BST
DTSTART:20170326T010000
END:DAYLIGHT
BEGIN:STANDARD
TZOFFSETFROM:+0100
TZOFFSETTO:+0000
TZNAME:GMT
DTSTART:20171029T010000
END:STANDARD
BEGIN:DAYLIGHT
TZOFFSETFROM:+0000
TZOFFSETTO:+0100
TZNAME:BST
DTSTART:20180325T010000
END:DAYLIGHT
BEGIN:STANDARD
TZOFFSETFROM:+0100
TZOFFSETTO:+0000
TZNAME:GMT
DTSTART:20181028T010000
END:STANDARD
END:VTIMEZONE
BEGIN:VTIMEZONE
TZID:America/Mexico_City
BEGIN:DAYLIGHT
TZOFFSETFROM:-0600
TZOFFSETTO:-0500
TZNAME:CDT
DTSTART:20160403T080000
END:DAYLIGHT
BEGIN:STANDARD
TZOFFSETFROM:-0500
TZOFFSETTO:-0600
TZNAME:CST
DTSTART:20161030T070000
END:STANDARD
BEGIN:DAYLIGHT
TZOFFSETFROM:-0600
TZOFFSETTO:-0500
TZNAME:CDT
DTSTART:20170402T080000
END:DAYLIGHT
BEGIN:STANDARD
TZOFFSETFROM:-0500
TZOFFSETTO:-0600
TZNAME:CST
DTSTART:20171029T070000
END:STANDARD
BEGIN:DAYLIGHT
TZOFFSETFROM:-0600
TZOFFSETTO:-0500
TZNAME:CDT
DTSTART:20180401T080000
END:DAYLIGHT
BEGIN:STANDARD
TZOFFSETFROM:-0500
TZOFFSETTO:-0600
TZNAME:CST
DTSTART:20181028T070000
END:STANDARD
END:VTIMEZONE
BEGIN:VEVENT
DTSTART;TZID=Europe/Madrid:20210116T170000
DTEND;TZID=Europe/Madrid:20210117T203000
DTSTAMP:20260423T005935
CREATED:20201209T171215Z
LAST-MODIFIED:20201209T171253Z
UID:8548-1610816400-1610915400@animalinharmony.com
SUMMARY:Webinario Aceites Esenciales
DESCRIPTION:Los próximos días 16 y 17 de enero 2021 haremos el módulo 3 de zoofarmacognosis aplicada dedicado a los aceites esenciales. En este webinario veremos las propiedades principales de algunos de los aceites más usados en esta modalidad. \nEl único prerequisito es haber asistido al webinario «Introducción a la Zoofarmacognosis» o al curso presencial del mismo nombre. \nPara inscribirse: https://www.edogtorial.com/producto/modulo-3-online-de-zoofarmacognosis-aplicada/ \nhttps://animalinharmony.com/wp-content/uploads/Promo-enero-Nuria.mp4
URL:https://animalinharmony.com/es/event/webinario-aceites-esenciales/
END:VEVENT
BEGIN:VEVENT
DTSTART;TZID=Europe/Madrid:20210110T180000
DTEND;TZID=Europe/Madrid:20210110T203000
DTSTAMP:20260423T005936
CREATED:20201101T130557Z
LAST-MODIFIED:20201101T130557Z
UID:8085-1610301600-1610310600@animalinharmony.com
SUMMARY:Webinario con Kathy Cascade: soluciones para los comportamientos caninos difíciles
DESCRIPTION:https://animalinharmony.com/wp-content/uploads/WEBINARIO-KATHY-CASCADE-subtítulos-y-portada.mp4
URL:https://animalinharmony.com/es/event/webinario-con-kathy-cascade-soluciones-para-los-comportamientos-caninos-dificiles/
ORGANIZER;CN="Nuria":MAILTO:vecformacion@gmail.com
END:VEVENT
BEGIN:VEVENT
DTSTART;TZID=America/Argentina/Buenos_Aires:20201205T100000
DTEND;TZID=America/Argentina/Buenos_Aires:20201205T140000
DTSTAMP:20260423T005936
CREATED:20201010T143342Z
LAST-MODIFIED:20201010T154828Z
UID:8045-1607162400-1607176800@animalinharmony.com
SUMMARY:Zoofarmacognosis aplicada a vista de pájaro
DESCRIPTION:Un webinario dirigido a los estudiantes de la diplomatura de terapia asistido con animales d la Universidad de Buenos Aires para dar a conocer las aplicaciones de la zoofarmacognosis con los animales de terapia.
URL:https://animalinharmony.com/es/event/zoofarmacognosis-aplicada-a-vista-de-pajaro/
END:VEVENT
BEGIN:VEVENT
DTSTART;TZID=America/Argentina/Buenos_Aires:20201205T100000
DTEND;TZID=America/Argentina/Buenos_Aires:20201205T113000
DTSTAMP:20260423T005936
CREATED:20201108T141219Z
LAST-MODIFIED:20201108T141219Z
UID:8092-1607162400-1607167800@animalinharmony.com
SUMMARY:
DESCRIPTION:El próximo día 5 de diciembre se presentará ante los estudiantes de la Diplomatura de Terapia Asistida con Animales de la Universidad Abierta Interamericana de Buenos Aires un webinario «Introducción a la Zoofarmacognosis Aplicada.
URL:https://animalinharmony.com/es/event/8092/
END:VEVENT
BEGIN:VEVENT
DTSTART;TZID=Europe/Madrid:20201001T200000
DTEND;TZID=Europe/Madrid:20201001T230000
DTSTAMP:20260423T005936
CREATED:20201001T092853Z
LAST-MODIFIED:20201001T094848Z
UID:8017-1601582400-1601593200@animalinharmony.com
SUMMARY:Lanzamiento Curso de Certificación
DESCRIPTION:Hoy día 1 de octubre tendremos luna llena. Con la salida de la llamada luna llena de la cosecha\, se lanzará el curso online de certificación de zoofarmacognosis aplicada. \nCreo que éste es un curso completo que cubre los aspectos más importantes que se necesita comprender para poder trabajar con las sustancias con conocimiento de causa. El curso cubre las facetas teóricas y prácticas de la zoofarmacognosis con una evaluación del trabajo de cada estudiante. \nPulse aquí para ver la información completa sobre el curso \nSi lo prefiere\, puede ver la misma información en issuu.com:
URL:https://animalinharmony.com/es/event/lanzamiento-curso-de-cerftificacion/
END:VEVENT
BEGIN:VEVENT
DTSTART;TZID=Europe/Madrid:20200719T170000
DTEND;TZID=Europe/Madrid:20200719T200000
DTSTAMP:20260423T005936
CREATED:20200528T163309Z
LAST-MODIFIED:20200528T163309Z
UID:6652-1595178000-1595188800@animalinharmony.com
SUMMARY:Introducción a la Zoofarmacognosis Aplicada II (Día 2)
DESCRIPTION:Para los que ya han hecho la primera introducción a la zoofarmacognosis aplicada se ofrecerá un segundo módulo los días 18 y 19 de julio. El horario se ha elegido para acomodar tanto a los participantes de España como los de América Latina
URL:https://animalinharmony.com/es/event/introduccion-a-la-zoofarmacognosis-aplicada-ii-dia-2/
LOCATION:Online event\, United Kingdom
END:VEVENT
BEGIN:VEVENT
DTSTART;TZID=Europe/Madrid:20200718T080000
DTEND;TZID=Europe/Madrid:20200718T170000
DTSTAMP:20260423T005936
CREATED:20200528T162939Z
LAST-MODIFIED:20200528T163537Z
UID:6649-1595059200-1595091600@animalinharmony.com
SUMMARY:Introducción a la Zoofarmacognosis Aplicada II
DESCRIPTION:Para los que ya han hecho la primera introducción a la zoofarmacognosis aplicada se ofrecerá un segundo módulo los días 18 y 19 de julio. El horario se ha elegido para acomodar tanto a los participantes de España como los de América Latina
URL:https://animalinharmony.com/es/event/introduccion-a-la-zoofarmacognosis-aplicada-ii/
LOCATION:Online event\, United Kingdom
END:VEVENT
BEGIN:VEVENT
DTSTART;TZID=Europe/Madrid:20200628T170000
DTEND;TZID=Europe/Madrid:20200628T200000
DTSTAMP:20260423T005936
CREATED:20200528T162605Z
LAST-MODIFIED:20200528T162605Z
UID:6647-1593363600-1593374400@animalinharmony.com
SUMMARY:Introducción a la Zoofarmacognosis Aplicada Día 2
DESCRIPTION:El   curso introductorio se ofrecerá en dos partes para así poder acomodar a los participantes europeos y latinoamericanos.
URL:https://animalinharmony.com/es/event/introduccion-a-la-zoofarmacognosis-aplicada-dia-2/
LOCATION:Online event\, United Kingdom
END:VEVENT
BEGIN:VEVENT
DTSTART;TZID=Europe/Madrid:20200627T170000
DTEND;TZID=Europe/Madrid:20200627T200000
DTSTAMP:20260423T005936
CREATED:20200528T162116Z
LAST-MODIFIED:20200528T162325Z
UID:6641-1593277200-1593288000@animalinharmony.com
SUMMARY:Introducción  la Zoofarmacognosis Aplicada
DESCRIPTION:Tenemos el gran placer de repetir el primer módulo del curso Introducción a la Zoofarmacognosis Aplicada los días 27 y 28 de junio y para los que ya han hcho esta primera introducción se ofrecerá un segundo módulo los días 18 y 19 de julio. Ambos cursos se ofrecen online y en un horario que acomoda tanto a los participantes de España como los de América Latina
URL:https://animalinharmony.com/es/event/introduccion-la-zoofarmacognosis-aplicada-2/
LOCATION:Online event\, United Kingdom
ORGANIZER;CN="Canidogs Training":MAILTO:info@canidogs.com
END:VEVENT
BEGIN:VEVENT
DTSTART;VALUE=DATE:20200222
DTEND;VALUE=DATE:20200224
DTSTAMP:20260423T005936
CREATED:20191118T142204Z
LAST-MODIFIED:20191118T143459Z
UID:4002-1582329600-1582502399@animalinharmony.com
SUMMARY:Zoofarmacognosis Aplicada
DESCRIPTION:¡Ya se están programando los cursos para el nuevo año 2020! Se impartirán los módulos 1 y 2 de la zoofarmacognosis aplicada en Madrid (España). Los cursos serán teoricoprácticos y habrá la posibilidad de realizar sesiones con los animales que acudan a los cursos.
URL:https://animalinharmony.com/es/event/zoofarmacognosis-aplicada/
LOCATION:Madrid\, Spain
ORGANIZER;CN="Nuria":MAILTO:vecformacion@gmail.com
END:VEVENT
BEGIN:VEVENT
DTSTART;VALUE=DATE:20190520
DTEND;VALUE=DATE:20190521
DTSTAMP:20260423T005936
CREATED:20190514T131034Z
LAST-MODIFIED:20190514T131034Z
UID:1615-1558310400-1558396799@animalinharmony.com
SUMMARY:Lanzamiento libro "LIbre Elección"
DESCRIPTION:Mi libro «Libre Elección» donde se puede aprender los fundamentos prácticos de la zoofarmacognosis está a punto de  salir al mercado. El libro ofrece fichas de referencia A -Z sobre las sustancias más utilizadas además de tablas de fácil consulta para las diversas condiciones que los animales pueden padecer.
URL:https://animalinharmony.com/es/event/lanzamiento-libro-libre-eleccion/
END:VEVENT
BEGIN:VEVENT
DTSTART;TZID=Europe/Madrid:20190508T180000
DTEND;TZID=Europe/Madrid:20190508T200000
DTSTAMP:20260423T005936
CREATED:20190507T082728Z
LAST-MODIFIED:20190507T082728Z
UID:1549-1557338400-1557345600@animalinharmony.com
SUMMARY:Aula por Videoconferencia
DESCRIPTION:Aula por videoconferencia sobre Telington TTouch y al zoofarmacognosis.
URL:https://animalinharmony.com/es/event/aula-por-videoconferencia/
LOCATION:Facultad de Veterinaria UNLP\, Buenos Aires\, Argentina
END:VEVENT
BEGIN:VEVENT
DTSTART;TZID=Europe/Madrid:20180930T180000
DTEND;TZID=Europe/Madrid:20180930T184000
DTSTAMP:20260423T005936
CREATED:20180829T152230Z
LAST-MODIFIED:20180829T152808Z
UID:993-1538330400-1538332800@animalinharmony.com
SUMMARY:Webinar sobre la ansiedad
DESCRIPTION:A partir del mes de septiembre 2018 tengo la intencion de ofrecer una serie de webinars sobre temas diversos. El primero será «¿Qué es la ansiedad y cómo podemos ayudar a nuestros animale a superarla?» Este tema fue elegido  por estudiantes que opinan que es un tema de gran interés. El primer webinar se celebrará el día 30 de septiembre. en un principio serán sesiones breves pero\, si vemos que hay interés\, se adaptará el formato de acauerdo a la demanda. Creo que el tema de la ansiedad requerirá más de una sesión. Este webinar se dará en inglés.
URL:https://animalinharmony.com/es/event/anxiety-webinar/
END:VEVENT
BEGIN:VEVENT
DTSTART;TZID=Europe/London:20170716T190000
DTEND;TZID=Europe/London:20170716T200000
DTSTAMP:20260423T005936
CREATED:20161212T093549Z
LAST-MODIFIED:20161212T093800Z
UID:419-1500231600-1500235200@animalinharmony.com
SUMMARY:¿Qué es la zoofarmacognosis?
DESCRIPTION:En este webinar se propone explorar los fundamentos básicos de la zoofarmacognosis mediante una presentación de Powerpoint. Al final habrá la oportunidad de hacer preguntas. El público destinatario son los especialistas en comportamiento animal y los socios de ICB. El idioma de este webinar será el inglés.
URL:https://animalinharmony.com/es/event/que-es-la-zoofarmacognosis/
LOCATION:Evento online
END:VEVENT
BEGIN:VEVENT
DTSTART;TZID=America/Mexico_City:20170401T093000
DTEND;TZID=America/Mexico_City:20170401T173000
DTSTAMP:20260423T005936
CREATED:20161112T091346Z
LAST-MODIFIED:20161128T145202Z
UID:297-1491039000-1491067800@animalinharmony.com
SUMMARY:Zoofarmacognosis Módulo 2: Materiales de Base y Condiciones Comunes
DESCRIPTION:En  este módulo exploraremos los materiales de base y veremos qué sustancias los animales tienden a elegir para abordar las condiciones más comunes. Por la tarde los participantes tendrán la oportunidad de hacer sesiones individuales bajo la supervisión de la profesora.
URL:https://animalinharmony.com/es/event/zoofarmacognosis-aplicada-modulo-2/
LOCATION:México D.F\, Mexico
ATTACH;FMTTYPE=image/jpeg:https://animalinharmony.com/wp-content/uploads/lana-arnica-oil-660x330.jpg
ORGANIZER;CN="Claudia":MAILTO:claudia@alimine.com.mx
END:VEVENT
BEGIN:VEVENT
DTSTART;TZID=America/Mexico_City:20170324T093000
DTEND;TZID=America/Mexico_City:20170324T173000
DTSTAMP:20260423T005936
CREATED:20161112T090857Z
LAST-MODIFIED:20161128T145354Z
UID:293-1490347800-1490376600@animalinharmony.com
SUMMARY:Introducción a la Zoofarmacognosis
DESCRIPTION:Introducción a la Zoofarmacognosis: En este curso aprenderemos la teoría de esta terapia y exploraremos cómo diferentes aceites y minerales pueden ayudar a los animales a mantener y/o  restaurar su salud física\, mental y emocional mediante la automedicación. Se harán sesiones individuales  con los animales participantes.
URL:https://animalinharmony.com/es/event/introduccion-a-la-zoofarmacognosis-2/
LOCATION:México D.F.\, Mexico
ATTACH;FMTTYPE=image/jpeg:https://animalinharmony.com/wp-content/uploads/Lana-rose-otto-2-scaled.jpg
ORGANIZER;CN="Claudia":MAILTO:claudia@alimine.com.mx
END:VEVENT
BEGIN:VEVENT
DTSTART;TZID=Europe/Madrid:20170121T100000
DTEND;TZID=Europe/Madrid:20170121T180000
DTSTAMP:20260423T005936
CREATED:20161006T035151Z
LAST-MODIFIED:20161211T204135Z
UID:137-1484992800-1485021600@animalinharmony.com
SUMMARY:Introducción a la Zoofarmacognosis
DESCRIPTION:Introducción a la Zoofarmacognosis: En este curso aprenderemos la teoría de esta terapia y exploraremos cómo diferentes aceites y minerales pueden ayudar a los animales a mantener y/o  restaurar su salud física\, mental y emocional mediante la automedicación. Se harán sesiones individuales  con los animales participantes.
URL:https://animalinharmony.com/es/event/introduccion-a-la-zoofarmacognosis/
LOCATION:Hotel Mercader\, Madrid\, Spain
CATEGORIES:Cursos
ATTACH;FMTTYPE=image/jpeg:https://animalinharmony.com/wp-content/uploads/Zoofarma-prácticas-web-size.jpg
END:VEVENT
END:VCALENDAR